Workbook

Sheet Основные проектные работы
A1: Локальная смета №1 на основные проектные работы
A2: Заказчик: | C2: СП ОАО "Брестгазоаппарат"
A4: Подрядчик:
A6: Объект: | C6: «Модернизация капитального строения с инвентарным номером 100/С-95201 (Участок литья), расположенного по адресу: Брестская обл., г. Брест, ул. Строительная, 58А»
A8: № п/п | B8: Наименование объекта проектирования, значение натурального показателя | C8: Индентификатор нормы | D8: Норма трудозатрат (чел-дней) | F8: Значение натурального показателя | H8: Корректирующие коэффициенты | I8: Трудозатраты (чел-дней)
A9: 1 | B9: 2 | C9: 3 | D9: 4 | F9: 5 | H9: 6 | I9: 7
A10: 1 | B10: Промышленные здания одноэтажноые, основного назначения с мостовыми кранами, м3 объема | C10: СНЗТ 2-2014 табл. 2.1 0220110i/0220110j | F10: разряд сложности | H10: 14.1
C11: НЗТб=НЗТмин+(((НЗТмакс-НЗТмин)/(Хмакс-Хмин))х(Хоб-Хмин))
C12: Хоб= | D12: 66500
C13: 0220110i | D13: НЗТмин= | E13: 2638 | F13: Хмин= | G13: 50000
C14: 0220110j | D14: НЗТмакс= | E14: 5033 | F14: Хмакс= | G14: 100000 | I14: =E13+(((E14-E13)/(G14-G13))*(D12-G13)) -> 3428.35
C15: Коэффициент, учит. техническую сложность проектирования, Ктех | H15: 1.45
C16: Тарифный коэффициент, Кср.разряд | H16: ='Тарифные коэффиниенты'!L5 -> 1.006
C17: Понижающий коэффициент, учитывающий снижение объема проектных работ, Кор | H17: 0.6
C18: Удельный вес времени использования трудовых ресурсов на проведение проектных работ, Увст | H18: 0.06
C19: Стоимость работ (услуг), приходящаяся на 1 чел-день работы исполнителя 14-го разряда, установленная по состоянию на 01.01.2026 | H19: 442.02
C20: Произведение значений прогнозных индексов цен в строительстве с разбивкой по месяцам за период с января текущего до месяца, предшествующего месяцу, в котором планируется начало выполнения работ (январь 2026 - сентябрь 2026), Io | H20: ='Прогнозные индексы'!K5*'Прогнозные индексы'!K6*'Прогнозные индексы'!K7*'Прогнозные индексы'!K8*'Прогнозные индексы'!K9*'Прогнозные индексы'!K10*'Прогнозные индексы'!K11*'Прогнозные индексы'!K12*'Прогнозные индексы'!K13 -> 1.1123421
C21: Произведение значений прогнозных индексов цен в строительстве с разбивкой по месяцам за период с месяца, в котором планируется начало выполнения работ, до месяца, в котором планируется из завершение (октябрь 2026 - декабрь 2026), Ip | H21: ='Прогнозные индексы'!K14*'Прогнозные индексы'!K15*'Прогнозные индексы'!K16 -> 1.0361265
C22: Стоимость проектных работ, приходящихся на 1 человеко-день исполнителя 14 разряда, скорректированная на срок, требуемый для разработки проектной документации, руб | H22: =H19*H20*(1+1/2*(H21-1)) -> 500.55874
C23: Общая стоимость проектных работ, руб | H23: =I14*H15*H16*H17*H18*H22 -> 90117.406
C24: НДС 20%, руб: | H24: =H25-H23 -> 18023.481
C25: Итого с НДС, руб: | H25: =H23*1.2 -> 108140.89

Sheet Обследование
A1: Локальная смета №2 на обследование строительных конструкций
A2: Заказчик: | C2: СП ОАО "Брестгазоаппарат"
A4: Подрядчик:
A6: Объект: | C6: «Модернизация капитального строения с инвентарным номером 100/С-95201 (Участок литья), расположенного по адресу: Брестская обл., г. Брест, ул. Строительная, 58А»
A7: № п/п | B7: Характеристика работ | D7: № частей, глав, таблиц, пунктов раздела Сборника | G7: Расчет норм затрат | H7: Норма затрат трудовых ресурсов | I7: Среднее значение тарифных разрядов | J7: Тарифный коэффициент
A8: 1 | B8: 2 | D8: 3 | G8: 4 | H8: 5 | I8: 6 | J8: 7
A9: 1 | B9: Общие положения | D9: К18.101= | E9: 1 | F9: п.1.6.1 Глава 1
D10: К18.102= | E10: 1 | F10: п.1.6.2 Глава 1
D11: К18.103= | E11: 1 | F11: п.1.6.3 Глава 1
B12: 3990 | C12: м3 | D12: Итого: | F12: 1
A13: 2 | B13: Нормы затрат трудовых ресурсов на выполнение обследовательских работ | D13: К18.ОБ= | E13: 4 | F13: п.2.4 Глава 2 (не более 8)
D14: К18.202= | E14: 1.5 | F14: п.2.5.1 Глава 2
D15: К18.203= | E15: 1 | F15: п.2.5.2 Глава 2
D16: К18.204= | E16: 1 | F16: п.2.5.3 Глава 2
D17: К18.205= | E17: 1 | F17: п.2.5.4 Глава 2
D18: К18.206= | E18: 1 | F18: п.2.5.5 Глава 2
D19: К18.207= | E19: 1 | F19: п.2.5.6 Глава 2
D20: К18.208= | E20: 1 | F20: п.2.5.7 Глава 2
D21: К18.209= | E21: 1 | F21: п.2.5.8 Глава 2
D22: К18.210= | E22: 1 | F22: п.2.5.9 Глава 2
D23: К18.211= | E23: 1.1 | F23: п.2.5.10 Глава 2
D24: К18.212= | E24: 1 | F24: п.2.5.11 Глава 2
D25: К18.213= | E25: 1 | F25: п.2.5.12 Глава 2
... D32: К18.220= | E32: 1 | F32: п.2.5.19 Глава 2
D33: Категория сложности здания табл. 2.1 Глава 1 | F33: II
B34: 3990 | C34: м3 | D34: Итого: | F34: 4
A35: 3 | B35: Сбор исходных данных | D35: Категория сложности работ п. 2.1.2 Глава 2 Раздел 2.1 | F35: II | H35: =E36*E13*E14*(B38/100)*E37 -> 0.64638 | I35: 14 | J35: 1
D36: НЗТiОП= (1820205а) | E36: 0.018 | F36: табл. 2.2 Глава 2 Раздел 2.1
D37: Распределение по отдельным видам конструкций | E37: 0.15 | F37: табл. 2.4 Глава 2 Раздел 2.1
B38: =66500*6/100 -> 3990 | C38: м3
A39: 4 | B39: Обмерные работы | D39: Категория сложности работ п. 2.2.2 Глава 2 Раздел 2.2 | F39: I | H39: =E42*E13*E14*(B44/100)*E40*E43 -> 1.709316 | I39: 10 | J39: ='Тарифные коэффиниенты'!D4 -> 0.763
D40: К18.221= | E40: 1 | F40: п.2.2.6.1 Глава 2 Раздел 2.2
D41: К18.222= | E41: 0.7 | F41: п.2.2.6.2 Глава 2 Раздел 2.2
D42: НЗТiОП= (1820502а) | E42: 0.017 | F42: табл. 2.5 Глава 2 Раздел 2.2
D43: Распределение по отдельным видам конструкций | E43: 0.42 | F43: табл. 2.7 Глава 2 Раздел 2.2
B44: =66500*6/100 -> 3990 | C44: м3
A45: 5 | B45: Работы по обследованию зданий и сооружений | D45: Категория сложности работ п. 2.3.2 Глава 2 Раздел 2.3 | F45: II | H45: =E46*E13*E14*(B56/100)*E47*E48 -> 1.357398 | I45: 14 | J45: 1
D46: НЗТiОП= (1820805а) | E46: 0.045 | F46: табл. 2.8 Глава 2 Раздел 2.3
D47: Распределение по отдельным видам конструкций | E47: 0.12 | F47: табл. 2.10 Глава 2 Раздел 2.3
D48: К18.223= | E48: 1.05 | F48: п.2.3.6.1 Глава 2 Раздел 2.3
D49: К18.224= | E49: 1 | F49: п.2.3.6.2 Глава 2 Раздел 2.3
D50: К18.225= | E50: 1 | F50: п.2.3.6.3 Глава 2 Раздел 2.3
D51: К18.227= | E51: 1 | F51: п.2.3.6.4 Глава 2 Раздел 2.3
D52: К18.228= | E52: 1 | F52: п.2.3.8.1 Глава 2 Раздел 2.3
D53: К18.229= | E53: 1 | F53: п.2.3.8.2 Глава 2 Раздел 2.3
D54: НЗТiОП отдельных ж/б констр | E54: - | F54: табл. 2.11 Глава 2 Раздел 2.3
D55: НЗТiОП длит контроль за сост констр= | E55: - | F55: табл. 2.12 Глава 2 Раздел 2.3
B56: =66500*6/100 -> 3990 | C56: м3
A57: 6 | B57: Составление технического отчета | D57: Категория сложности работ п. 2.4.2 Глава 2 Раздел 2.4 | F57: III | H57: =E62*(B63/100)*E58 -> 1.7955 | I57: 12.5 | J57: ='Тарифные коэффиниенты'!H9 -> 0.905
D58: К18.230= | E58: 1 | F58: п.2.4.6.1 Глава 2 Раздел 2.4
D59: К18.231= | E59: 1 | F59: п.2.4.6.2 Глава 2 Раздел 2.4
D60: К18.227= | E60: 1 | F60: п.2.4.6.3 Глава 2 Раздел 2.4
D61: К18.232= | E61: 1 | F61: п.2.4.6.4 Глава 2 Раздел 2.4
D62: НЗТiОП= (1821305а) | E62: 0.045 | F62: табл. 2.13 Глава 2 Раздел 2.4
B63: =66500*6/100 -> 3990 | C63: м3
A64: 7 | B64: Проведение испытаний конструкций, определение прочности бетона, кирпич, лабораторные испытания строительных материалов | D64: К18.232= | E64: 1 | F64: п.2.5.4 Глава 2 Раздел 2.5 | H64: 0 | I64: 14 | J64: 1
D65: НЗТiОП стат натур испыт сб ж/б констр= (1821501а) | E65: 1 | F65: табл. 2.15 Глава 2 Раздел 2.5
D66: НЗТiОП опред проч. бетона и кирпич. кладки= (1821501а) | E66: 1 | F66: табл. 2.16 Глава 2 Раздел 2.5
D67: НЗТiОП лаб.раб. по испыт. строймат, констр и др. раб= (1821501а) | E67: 1 | F67: табл. 2.17 Глава 2 Раздел 2.5
B68: Итого: | I68: =F34*F12*(H35*J35+H39*J39*E40+H45*J45+H57*J57+H64*J64) -> 19.731654
B69: Понижающий коэффициент, учитывающий снижение объема проектных работ согласно НЗТ 8.01.00-2014 п. 35, Кор | F69: К р = | G69: 0.6
B70: Ст-сть работ, приходящаяся на 1 чел.-день специалиста 14 разряда на 01.01.2026 г., руб | I70: ='[1]ЛК №7 (Замена приб. учета)'!H9 -> 442.02
B71: Произведение значений прогнозных индексов цен в строительстве с разбивкой по месяцам за период с января текущего до месяца, предшествующего месяцу, в котором планируется начало выполнения работ (январь 2026 - сентябрь 2026), Io | I71: ='Прогнозные индексы'!K5*'Прогнозные индексы'!K6*'Прогнозные индексы'!K7*'Прогнозные индексы'!K8*'Прогнозные индексы'!K9*'Прогнозные индексы'!K10*'Прогнозные индексы'!K11*'Прогнозные индексы'!K12*'Прогнозные индексы'!K13 -> 1.1123421
B72: Произведение значений прогнозных индексов цен в строительстве с разбивкой по месяцам за период с месяца, в котором планируется начало выполнения работ, до месяца, в котором планируется из завершение (октябрь 2026 - декабрь 2026), Ip | I72: ='Прогнозные индексы'!K14*'Прогнозные индексы'!K15*'Прогнозные индексы'!K16 -> 1.0361265
B73: Стоимость проектных работ, приходящихся на 1 человеко-день исполнителя 14 разряда, скорректированная на срок, требуемый для разработки проектной документации, руб | I73: =I70*I71*(1+0.5*(I72-1)) -> 500.55874
B74: Итого: | I74: =I68*I73*G69 -> 5926.1112
B75: НДС 20%: | I75: =I76-I74 -> 1185.2222
B76: Итого с НДС: | I76: =I74*1.2 -> 7111.3335

Sheet ОВОС_ООС_ЭП
A1: Локальная смета №3 на дополнительные проектные работы и сопутсвующие работы на основании индивидуальных трудозатрат и среднего тарифного разряда исполнителей Охрана окружающей среды, ОВОС и экологический паспорт
A2: Заказчик: | C2: СП ОАО "Брестгазоаппарат"
A4: Подрядчик:
A6: Объект: | B6: «Модернизация капитального строения с инвентарным номером 100/С-95201 (Участок литья), расположенного по адресу: Брестская обл., г. Брест, ул. Строительная, 58А»
A8: № п/п | B8: Наименование должностей (по КСД) | C8: Тарифный разряд (по ЕТС) | D8: Трудоемкость
D9: Доля общей трудоемкости, % | E9: Величина, чел-дн
A10: 1 | B10: 2 | C10: 3 | D10: 4 | E10: 5
A11: 1 | B11: Начальник отдела | C11: 17 | D11: 0
A12: 2 | B12: Главный инженер проекта | C12: 16 | D12: 0
A13: 3 | B13: Главный специалист отдела | C13: 16 | D13: 16.67 | E13: 10
A14: 4 | B14: Начальник группы | C14: 16 | D14: 33.33 | E14: 20
A15: 5 | B15: Ведущий инженер | C15: 15 | D15: 25 | E15: 15
A16: 6 | B16: Инженер 1 кат | C16: 14 | D16: 25 | E16: 15
A17: 7 | B17: Инженер 2 кат | C17: 13 | D17: 0
A18: 8 | B18: Инженер | C18: 12 | D18: 0
A19: 9 | B19: Техник 1 кат | C19: 10 | D19: 0
B20: Итого по всем исполнителям: | D20: =SUM(D11:D19) -> 100 | E20: =SUM(E13:E17) -> 60
B21: Средний тарифный разряд призводственного персонала | D21: =(+C11+C12+C13+C17+C18+C19+C14+C15+C16)/9 -> 14.333333
B22: Тарифный коэффициент для перерасчета стоимости | D22: ='Тарифные коэффиниенты'!L7 -> 1.022
B23: Стоимость работ (услуг), приходящаяся на 1 чел-день работы исполнителя 14-го разряда, установленная по состоянию на 01.01.2026 | D23: 442.02
B24: Произведение значений прогнозных индексов цен в строительстве с разбивкой по месяцам за период с января текущего до месяца, предшествующего месяцу, в котором планируется начало выполнения работ (январь 2026 - сентябрь 2026), Io | D24: ='Прогнозные индексы'!K5*'Прогнозные индексы'!K6*'Прогнозные индексы'!K7*'Прогнозные индексы'!K8*'Прогнозные индексы'!K9*'Прогнозные индексы'!K10*'Прогнозные индексы'!K11*'Прогнозные индексы'!K12*'Прогнозные индексы'!K13 -> 1.1123421
B25: Произведение значений прогнозных индексов цен в строительстве с разбивкой по месяцам за период с месяца, в котором планируется начало выполнения работ, до месяца, в котором планируется из завершение (октябрь 2026 - декабрь 2026), Ip | D25: ='Прогнозные индексы'!K14*'Прогнозные индексы'!K15*'Прогнозные индексы'!K16 -> 1.0361265
B26: Стоимость проектных работ, приходящихся на 1 человеко-день исполнителя 14 разряда, скорректированная на срок, требуемый для разработки проектной документации, руб | D26: =D23*D24*(1+0.5*(D25-1)) -> 500.55874
B27: Общая стоимость проектных работ, руб | D27: =D26*D22*E20 -> 30694.262
B28: НДС 20%, руб: | D28: =D29-D27 -> 6138.8524
B29: Итого с НДС, руб: | D29: =D27*1.2 -> 36833.114

Sheet ППД
A1: Локальная смета №4 на дополнительные проектные работы и сопутсвующие работы на основании индивидуальных трудозатрат и среднего тарифного разряда исполнителей Предпроектная документация
A2: Заказчик: | C2: СП ОАО "Брестгазоаппарат"
A4: Подрядчик:
A6: Объект: | B6: «Модернизация капитального строения с инвентарным номером 100/С-95201 (Участок литья), расположенного по адресу: Брестская обл., г. Брест, ул. Строительная, 58А»
A8: № п/п | B8: Наименование должностей (по КСД) | C8: Тарифный разряд (по ЕТС) | D8: Трудоемкость
D9: Доля общей трудоемкости, % | E9: Величина, чел-дн
A10: 1 | B10: 2 | C10: 3 | D10: 4 | E10: 5
A11: 1 | B11: Начальник отдела | C11: 17 | D11: 0
A12: 2 | B12: Главный инженер проекта | C12: 16 | D12: 0
A13: 3 | B13: Главный специалист отдела | C13: 16 | D13: =1*100/15 -> 6.6666667 | E13: 1
A14: 4 | B14: Начальник группы | C14: 16 | D14: =1*100/15 -> 6.6666667 | E14: 1
A15: 5 | B15: Ведущий инженер | C15: 15 | D15: =E15*100/E20 -> 20 | E15: 3
A16: 6 | B16: Инженер 1 кат | C16: 14 | D16: =E16*100/15 -> 33.333333 | E16: 5
A17: 7 | B17: Инженер 2 кат | C17: 13 | D17: =E17*100/15 -> 33.333333 | E17: 5
A18: 8 | B18: Инженер | C18: 12 | D18: 0
A19: 9 | B19: Техник 1 кат | C19: 10 | D19: 0
B20: Итого по всем исполнителям: | D20: =SUM(D11:D19) -> 100 | E20: =SUM(E11:E19) -> 15
B21: Средний тарифный разряд призводственного персонала | D21: =(+C11+C12+C13+C17+C18+C19+C14+C15+C16)/9 -> 14.333333
B22: Тарифный коэффициент для перерасчета стоимости | D22: ='Тарифные коэффиниенты'!L7 -> 1.022
B23: Стоимость работ (услуг), приходящаяся на 1 чел-день работы исполнителя 14-го разряда, установленная по состоянию на 01.01.2026 | D23: 442.02
B24: Произведение значений прогнозных индексов цен в строительстве с разбивкой по месяцам за период с января текущего до месяца, предшествующего месяцу, в котором планируется начало выполнения работ (январь 2026 - сентябрь 2026), Io | D24: ='Прогнозные индексы'!K5*'Прогнозные индексы'!K6*'Прогнозные индексы'!K7*'Прогнозные индексы'!K8*'Прогнозные индексы'!K9*'Прогнозные индексы'!K10*'Прогнозные индексы'!K11*'Прогнозные индексы'!K12*'Прогнозные индексы'!K13 -> 1.1123421
B25: Произведение значений прогнозных индексов цен в строительстве с разбивкой по месяцам за период с месяца, в котором планируется начало выполнения работ, до месяца, в котором планируется из завершение (октябрь 2026 - декабрь 2026), Ip | D25: ='Прогнозные индексы'!K14*'Прогнозные индексы'!K15*'Прогнозные индексы'!K16 -> 1.0361265
B26: Стоимость проектных работ, приходящихся на 1 человеко-день исполнителя 14 разряда, скорректированная на срок, требуемый для разработки проектной документации, руб | D26: =D23*D24*(1+0.5*(D25-1)) -> 500.55874
B27: Общая стоимость проектных работ, руб | D27: =D26*D22*E20 -> 7673.5655
B28: НДС 20%, руб: | D28: =D29-D27 -> 1534.7131
B29: Итого с НДС, руб: | D29: =D27*1.2 -> 9208.2785

Sheet Сводная смета
A1: Сводная смета
A2: Заказчик: | C2: СП ОАО "Брестгазоаппарат"
A4: Подрядчик:
A6: Объект: | C6: «Модернизация капитального строения с инвентарным номером 100/С-95201 (Участок литья), расположенного по адресу: Брестская обл., г. Брест, ул. Строительная, 58А»
A7: Предварительная Сводная смета
A8: № п/п | B8: № лок.сметы | C8: Наименование объекта | D8: Стоимости, руб. (без НДС) | E8: НДС, руб. | F8: Стоимости, руб. (с НДС)
A9: 1 | B9: 2 | C9: 3 | D9: 4 | E9: 5 | F9: 6
A10: Сопутствующие проектные работы
A11: 1 | C11: Инженерно-геологические изыскания | D11: 2500 | E11: =F11-D11 -> 500 | F11: =D11*1.2 -> 3000
A12: 2 | B12: 2 | C12: Обследование, составление актов | D12: =Обследование!I74 -> 5926.1112 | E12: =Обследование!I75 -> 1185.2222 | F12: =Обследование!I76 -> 7111.3335
A13: 3 | B13: 4 | C13: Предпроектные работы | D13: =ППД!D27 -> 7673.5655 | E13: =ППД!D28 -> 1534.7131 | F13: =ППД!D29 -> 9208.2785
C14: Итого | D14: =SUM(D12:D13) -> 13599.677 | E14: =SUM(E12:E13) -> 2719.9353 | F14: =SUM(F12:F13) -> 16319.612
A15: Основные проектные работы
A16: 1 | B16: 1 | C16: Общие проектные работы | D16: ='Основные проектные работы'!H23 -> 90117.406 | E16: ='Основные проектные работы'!H24 -> 18023.481 | F16: ='Основные проектные работы'!H25 -> 108140.89
A17: 2 | B17: 3 | C17: Разработка раздела ООС, ОВОС, Экологический паспорт | D17: =ОВОС_ООС_ЭП!D27 -> 30694.262 | E17: =ОВОС_ООС_ЭП!D28 -> 6138.8524 | F17: =ОВОС_ООС_ЭП!D29 -> 36833.114
C18: Итого | D18: =SUM(D16:D17) -> 120811.67 | E18: =SUM(E16:E17) -> 24162.334 | F18: =SUM(F16:F17) -> 144974
C19: Всего | D19: =D14+D18 -> 134411.34 | E19: =E14+E18 -> 26882.269 | F19: =F14+F18 -> 161293.61

Sheet Прогнозные индексы
A1: ПРОГНОЗНЫЕ ИНДЕКСЫ ЦЕН В СТРОИТЕЛЬСТВЕ С РАЗБИВКОЙ ПО МЕСЯЦАМ НА 2017 - 2020 ГГ.
A3: Период | B3: Индексы
B4: 2017 год | C4: 2018 год | D4: 2019 год | E4: 2020 год | F4: 2021 год | G4: 2022 год | H4: 2023 год | I4: 2024 год | J4: 2025 год | K4: 2026 год | L4: 2027 год
A5: январь | B5: 1.0073 | C5: 1.0066 | D5: 1.0053 | E5: 1.0057 | F5: 1.0057 | G5: 1.0055 | H5: 1.0066 | I5: 1.0067 | J5: 1.0105 | K5: 1.0119 | L5: 1.0115
A6: февраль | B6: 1.0073 | C6: 1.0066 | D6: 1.0053 | E6: 1.0057 | F6: 1.0057 | G6: 1.0055 | H6: 1.0066 | I6: 1.0067 | J6: 1.0105 | K6: 1.0119 | L6: 1.0115
A7: март | B7: 1.0073 | C7: 1.0066 | D7: 1.0053 | E7: 1.0057 | F7: 1.0057 | G7: 1.0055 | H7: 1.0066 | I7: 1.0067 | J7: 1.0105 | K7: 1.0119 | L7: 1.0115
A8: апрель | B8: 1.0073 | C8: 1.0066 | D8: 1.0053 | E8: 1.0057 | F8: 1.0057 | G8: 1.0138 | H8: 1.0074 | I8: 1.0067 | J8: 1.0144 | K8: 1.0119 | L8: 1.0115
A9: май | B9: 1.0073 | C9: 1.0066 | D9: 1.0053 | E9: 1.0057 | F9: 1.0057 | G9: 1.0138 | H9: 1.0074 | I9: 1.0067 | J9: 1.0144 | K9: 1.0119 | L9: 1.0115
A10: июнь | B10: 1.0073 | C10: 1.0066 | D10: 1.0053 | E10: 1.0057 | F10: 1.0057 | G10: 1.0138 | H10: 1.0074 | I10: 1.0067 | J10: 1.0144 | K10: 1.0119 | L10: 1.0115
A11: июль | B11: 1.0073 | C11: 1.0066 | D11: 1.0053 | E11: 1.0057 | F11: 1.0057 | G11: 1.0138 | H11: 1.0074 | I11: 1.0067 | J11: 1.0144 | K11: 1.0119 | L11: 1.0115
A12: август | B12: 1.0073 | C12: 1.0066 | D12: 1.0053 | E12: 1.0057 | F12: 1.0057 | G12: 1.0138 | H12: 1.0074 | I12: 1.0067 | J12: 1.0144 | K12: 1.0119 | L12: 1.0115
A13: сентябрь | B13: 1.0073 | C13: 1.0066 | D13: 1.0053 | E13: 1.0057 | F13: 1.0057 | G13: 1.0138 | H13: 1.0074 | I13: 1.0067 | J13: 1.0144 | K13: 1.0119 | L13: 1.0115
A14: октябрь | B14: 1.0073 | C14: 1.0066 | D14: 1.0053 | E14: 1.0057 | F14: 1.0057 | G14: 1.0138 | H14: 1.0074 | I14: 1.0067 | J14: 1.0144 | K14: 1.0119 | L14: 1.0115
A15: ноябрь | B15: 1.0073 | C15: 1.0066 | D15: 1.0053 | E15: 1.0057 | F15: 1.0057 | G15: 1.0138 | H15: 1.0074 | I15: 1.0067 | J15: 1.0144 | K15: 1.0119 | L15: 1.0115
A16: декабрь | B16: 1.0073 | C16: 1.0066 | D16: 1.0053 | E16: 1.0057 | F16: 1.0057 | G16: 1.0138 | H16: 1.0074 | I16: 1.0067 | J16: 1.0144 | K16: 1.0119 | L16: 1.0115

Sheet Тарифные коэффиниенты
A1: Значения тарифных коэффициентов
A4: 9 | B4: 0.714 | C4: 10 | D4: 0.763 | E4: 11 | F4: 0.815 | G4: 12 | H4: 0.874 | I4: 13 | J4: 0.935 | K4: 14 | L4: 1 | M4: 15 | N4: 1.071 | O4: 16 | P4: 1.145 | Q4: 17 | R4: 1.225 | S4: 18 | T4: 1.311
A5: 9.1 | B5: 0.72 | C5: 10.1 | D5: 0.769 | E5: 11.1 | F5: 0.822 | G5: 12.1 | H5: 0.88 | I5: 13.1 | J5: 0.942 | K5: 14.1 | L5: 1.006 | M5: 15.1 | N5: 1.077 | O5: 16.1 | P5: 1.154 | Q5: 17.1 | R5: 1.234 | S5: 18.1 | T5: 1.32
A6: 9.2 | B6: 0.723 | C6: 10.2 | D6: 0.772 | E6: 11.2 | F6: 0.828 | G6: 12.2 | H6: 0.886 | I6: 13.2 | J6: 0.948 | K6: 14.2 | L6: 1.015 | M6: 15.2 | N6: 1.086 | O6: 16.2 | P6: 1.16 | Q6: 17.2 | R6: 1.243 | S6: 18.2 | T6: 1.329
A7: 9.3 | B7: 0.729 | C7: 10.3 | D7: 0.778 | E7: 11.3 | F7: 0.834 | G7: 12.3 | H7: 0.892 | I7: 13.3 | J7: 0.954 | K7: 14.3 | L7: 1.022 | M7: 15.3 | N7: 1.092 | O7: 16.3 | P7: 1.169 | Q7: 17.3 | R7: 1.249 | S7: 18.3 | T7: 1.338
A8: 9.4 | B8: 0.732 | C8: 10.4 | D8: 0.785 | E8: 11.4 | F8: 0.84 | G8: 12.4 | H8: 0.898 | I8: 13.4 | J8: 0.96 | K8: 14.4 | L8: 1.028 | M8: 15.4 | N8: 1.102 | O8: 16.4 | P8: 1.175 | Q8: 17.4 | R8: 1.258 | S8: 18.4 | T8: 1.348
A9: 9.5 | B9: 0.738 | C9: 10.5 | D9: 0.791 | E9: 11.5 | F9: 0.846 | G9: 12.5 | H9: 0.905 | I9: 13.5 | J9: 0.969 | K9: 14.5 | L9: 1.037 | M9: 15.5 | N9: 1.108 | O9: 16.5 | P9: 1.185 | Q9: 17.5 | R9: 1.268 | S9: 18.5 | T9: 1.357
A10: 9.6 | B10: 0.745 | C10: 10.6 | D10: 0.794 | E10: 11.6 | F10: 0.849 | G10: 12.6 | H10: 0.911 | I10: 13.6 | J10: 0.975 | K10: 14.6 | L10: 1.043 | M10: 15.6 | N10: 1.114 | O10: 16.6 | P10: 1.194 | Q10: 17.6 | R10: 1.277 | S10: 18.6 | T10: 1.366
A11: 9.7 | B11: 0.748 | C11: 10.7 | D11: 0.8 | E11: 11.7 | F11: 0.855 | G11: 12.7 | H11: 0.917 | I11: 13.7 | J11: 0.982 | K11: 14.7 | L11: 1.049 | M11: 15.7 | N11: 1.123 | O11: 16.7 | P11: 1.2 | Q11: 17.7 | R11: 1.286 | S11: 18.7 | T11: 1.375
A12: 9.8 | B12: 0.754 | C12: 10.8 | D12: 0.806 | E12: 11.8 | F12: 0.862 | G12: 12.8 | H12: 0.923 | I12: 13.8 | J12: 0.988 | K12: 14.8 | L12: 1.055 | M12: 15.8 | N12: 1.129 | O12: 16.8 | P12: 1.209 | Q12: 17.8 | R12: 1.292 | S12: 18.8 | T12: 1.385
A13: 9.9 | B13: 0.757 | C13: 10.9 | D13: 0.809 | E13: 11.9 | F13: 0.868 | G13: 12.9 | H13: 0.929 | I13: 13.9 | J13: 0.994 | K13: 14.9 | L13: 1.065 | M13: 15.9 | N13: 1.138 | O13: 16.9 | P13: 1.215 | Q13: 17.9 | R13: 1.302 | S13: 18.9 | T13: 1.394
